BEGIN:VCALENDAR
VERSION:2.0
PRODID:-//Covalent Logic//Content Management System//EN
BEGIN:VEVENT
UID:1776602534852.COVALENTLOGIC.COM
DTSTART:20240812T050000Z
DTEND:20240814T045959Z
SUMMARY:Fall 2024 New SUSLA Connect Move-In
LOCATION:
DESCRIPTION:
PRIORITY:5
END:VEVENT
END:VCALENDAR